BEGIN:VCALENDAR
VERSION:2.0
PRODID:-//Cops Out Preaching Salvation - ECPv6.11.2//NONSGML v1.0//EN
CALSCALE:GREGORIAN
METHOD:PUBLISH
X-ORIGINAL-URL:https://copsoutpreachingsalvation.com
X-WR-CALDESC:Events for Cops Out Preaching Salvation
REFRESH-INTERVAL;VALUE=DURATION:PT1H
X-Robots-Tag:noindex
X-PUBLISHED-TTL:PT1H
BEGIN:VTIMEZONE
TZID:America/Los_Angeles
BEGIN:DAYLIGHT
TZOFFSETFROM:-0800
TZOFFSETTO:-0700
TZNAME:PDT
DTSTART:20250309T100000
END:DAYLIGHT
BEGIN:STANDARD
TZOFFSETFROM:-0700
TZOFFSETTO:-0800
TZNAME:PST
DTSTART:20251102T090000
END:STANDARD
END:VTIMEZONE
BEGIN:VEVENT
DTSTART;TZID=America/Los_Angeles:20250607T080000
DTEND;TZID=America/Los_Angeles:20250607T150000
DTSTAMP:20260423T133633
CREATED:20250408T024140Z
LAST-MODIFIED:20250408T030142Z
UID:440-1749283200-1749308400@copsoutpreachingsalvation.com
SUMMARY:COPS at Wren Ranch Sportsman Park - Three Gun Fundraiser
DESCRIPTION:COPS at Wren Ranch Sportsman Park – Three Gun Fundraiser\nSAT. JUNE 7\, 2025\nLOCATION:\nWREN RANCH SPORTSMAN PARK\n627 W 11th St. PERRIS\, CA 92570 \nSCHEDULE:\n8:00 AM – CHECK IN\n9:00 AM – EVENT STARTS\n12:00 PM – LUNCH\n1:00 PM – AWARDS \nFEES:\nADULTS – $75.00\nKIDS 16- 18 – $50.00\n(PARENT MUST BE PRESENT) \nPRIZES:\nTOP SHOOTER – TROPHY\nFIRST AND SECOND PLACE IN MEN’S AND WOMEN’S CATEGORIES WILL RECEIVE MEDALS – Three Gun Fundraiser\, Pistol\, Rifle and 12ga. Shotgun for a round of Skeet Bring 40 rounds of handgun ammo\, 20 rounds of rifle ammo red dot ok\, no magnification 223/556/ mini 30 ok. \nSponsored by Blue Collar Firearms\, Wrens Ranch Sporting Club. \n 
URL:https://copsoutpreachingsalvation.com/event/cops-at-wren-ranch-sportsman-park-three-gun-fundraiser/
LOCATION:Wren Ranch Sportsman Park\, 627 W 11th St.\, Perris\, 92570\, United States
ATTACH;FMTTYPE=image/png:https://copsoutpreachingsalvation.com/wp-content/uploads/2025/04/COPS-June-Flyer.png
END:VEVENT
END:VCALENDAR